BEGIN:VCALENDAR
VERSION:2.0
PRODID:-//Squarespace Inc/Squarespace 6//v6//EN
BEGIN:VEVENT
UID:594cff04d2b857d8bf9ec666@squarespace.com
DTSTAMP:20170623T115638Z
DTSTART:20171021T150000Z
DTEND:20171023T030000Z
SUMMARY:Wild Atlantic Tattoo show
GEO:51.555924;-9.26213
LOCATION:Skibbereen\, Cork\, Ireland
END:VEVENT
END:VCALENDAR
