BEGIN:VCALENDAR
VERSION:2.0
PRODID:-//Squarespace Inc/Squarespace 6//v6//EN
BEGIN:VEVENT
UID:591b063ba5790a1d9c34453a@squarespace.com
DTSTAMP:20170516T140552Z
DTSTART:20170520T143000Z
DTEND:20170520T203000Z
SUMMARY:National Drawing Day
GEO:51.555924;-9.26213
LOCATION:west Cork arts center\, Skibbereen\, Cork\, Ireland
END:VEVENT
END:VCALENDAR
