BEGIN:VCALENDAR
VERSION:2.0
PRODID:-//Squarespace Inc/Squarespace 6//v6//EN
BEGIN:VEVENT
UID:591ada62b3db2b9357ee9163@squarespace.com
DTSTAMP:20170516T105918Z
DTSTART:20170520T110000Z
DTEND:20170522T000000Z
SUMMARY:Sheeps Head Yarn Festival
END:VEVENT
END:VCALENDAR
