BEGIN:VCALENDAR
VERSION:2.0
PRODID:-//Squarespace Inc/Squarespace 6//v6//EN
BEGIN:VEVENT
UID:591ac2cab3db2b9357edcac0@squarespace.com
DTSTAMP:20170516T103345Z
DTSTART:20170524T123000Z
DTEND:20170529T033000Z
SUMMARY:Fastnet film festival
GEO:51.526867;-9.54798
LOCATION:Schull\, Cork\, Ireland
END:VEVENT
END:VCALENDAR
