BEGIN:VCALENDAR
VERSION:2.0
PRODID:-//Squarespace Inc/Squarespace 6//v6//EN
BEGIN:VEVENT
UID:591ad2f7b3db2b9357ee52af@squarespace.com
DTSTAMP:20170516T103152Z
DTSTART:20170526T230000Z
DTEND:20170529T000000Z
SUMMARY:Baltimore Wooden Boat festival
GEO:51.484327;-9.366109
LOCATION:Baltimore\, Cork\, Ireland
END:VEVENT
END:VCALENDAR
