BEGIN:VCALENDAR
VERSION:2.0
PRODID:-//Squarespace Inc/Squarespace 6//v6//EN
BEGIN:VEVENT
UID:592c2d67893fc05fa7d472d0@squarespace.com
DTSTAMP:20170529T142618Z
DTSTART:20170604T003000Z
DTEND:20170605T023000Z
SUMMARY:Castletownbere Spanish Fest 2017
END:VEVENT
END:VCALENDAR
