BEGIN:VCALENDAR
VERSION:2.0
PRODID:-//Squarespace Inc/Squarespace 6//v6//EN
BEGIN:VEVENT
UID:592c1f1a1e5b6ca26e46a1f1@squarespace.com
DTSTAMP:20170529T142723Z
DTSTART:20170602T233000Z
DTEND:20170606T023000Z
SUMMARY:Ballydehob Country music festival
END:VEVENT
END:VCALENDAR
