BEGIN:VCALENDAR
VERSION:2.0
PRODID:-//Squarespace Inc/Squarespace 6//v6//EN
BEGIN:VEVENT
UID:594bedc1bebafb473bde9d30@squarespace.com
DTSTAMP:20170622T162125Z
DTSTART:20170624T230000Z
DTEND:20170625T000000Z
SUMMARY:People of the Wild Atlantic Way' Photographic Exhibition in St. Pet
 er's Churchyard
END:VEVENT
END:VCALENDAR
