BEGIN:VCALENDAR
VERSION:2.0
PRODID:-//Squarespace Inc/Squarespace 6//v6//EN
BEGIN:VEVENT
UID:594ccc2e2e69cf9db7d3ba9a@squarespace.com
DTSTAMP:20170623T084324Z
DTSTART:20170630T130000Z
DTEND:20170708T153000Z
SUMMARY:West Cork Chamber music festival
GEO:51.68008;-9.452576
LOCATION:Bantry\, Cork\, Ireland
END:VEVENT
END:VCALENDAR
