BEGIN:VCALENDAR
VERSION:2.0
PRODID:-//Squarespace Inc/Squarespace 6//v6//EN
BEGIN:VEVENT
UID:594d249be6f2e1d4a11b744f@squarespace.com
DTSTAMP:20170623T142832Z
DTSTART:20170804T133000Z
DTEND:20170807T023000Z
SUMMARY:West Cork Yoga Festival
GEO:51.563008;-9.455367
LOCATION:Ballydehob\, Cork\, Ireland
END:VEVENT
END:VCALENDAR
