BEGIN:VCALENDAR
VERSION:2.0
PRODID:-//Squarespace Inc/Squarespace 6//v6//EN
BEGIN:VEVENT
UID:594aa3eb9de4bb8cdd49aa0f@squarespace.com
DTSTAMP:20170621T165438Z
DTSTART:20170625T130000Z
DTEND:20170625T180000Z
SUMMARY:Whiddy family fun day
GEO:51.68008;-9.452576
LOCATION:Bantry\, Cork\, ireland
END:VEVENT
END:VCALENDAR
