BEGIN:VCALENDAR
VERSION:2.0
PRODID:-//Squarespace Inc/Squarespace 6//v6//EN
BEGIN:VEVENT
UID:595283358419c2cba617c2be@squarespace.com
DTSTAMP:20170627T161430Z
DTSTART:20170701T003000Z
DTEND:20170703T110000Z
SUMMARY:Schull Drama group presents
GEO:51.526867;-9.54798
LOCATION:schull\, Cork\, Ireland
END:VEVENT
END:VCALENDAR
