BEGIN:VCALENDAR
VERSION:2.0
PRODID:-//Squarespace Inc/Squarespace 6//v6//EN
BEGIN:VEVENT
UID:59528218f7e0ab679250f52b@squarespace.com
DTSTAMP:20170627T161607Z
DTSTART:20170701T013000Z
DTEND:20170701T030000Z
SUMMARY:Westlodge Hotel Bantry ‎Outdoor Cinema Bantry
GEO:51.68008;-9.452576
LOCATION:bantry\, cork\, Ireland
END:VEVENT
END:VCALENDAR
