BEGIN:VCALENDAR
VERSION:2.0
PRODID:-//Squarespace Inc/Squarespace 6//v6//EN
BEGIN:VEVENT
UID:594bf0eb44024306ac1f3351@squarespace.com
DTSTAMP:20170623T145620Z
DTSTART:20170714T170000Z
DTEND:20170722T010000Z
SUMMARY:West Cork literary festival
GEO:51.68008;-9.452576
LOCATION:Bantry\, Cork\, Ireland
END:VEVENT
END:VCALENDAR
