BEGIN:VCALENDAR
VERSION:2.0
PRODID:-//Squarespace Inc/Squarespace 6//v6//EN
BEGIN:VEVENT
UID:59721013cf81e037062a0a7c@squarespace.com
DTSTAMP:20170721T143227Z
DTSTART:20170728T150000Z
DTEND:20170806T160000Z
SUMMARY:Skibbereen arts festival
END:VEVENT
END:VCALENDAR
