BEGIN:VCALENDAR
VERSION:2.0
PRODID:-//Squarespace Inc/Squarespace 6//v6//EN
BEGIN:VEVENT
UID:594bf6fe37c581fa1849b4be@squarespace.com
DTSTAMP:20170622T170005Z
DTSTART:20170813T130000Z
DTEND:20170813T140000Z
SUMMARY:Wild Atlantic Charity Walk
GEO:51.599057;-8.855405
LOCATION:inchadoney\, cork\, Ireland
END:VEVENT
END:VCALENDAR
