BEGIN:VCALENDAR
VERSION:2.0
PRODID:-//Squarespace Inc/Squarespace 6//v6//EN
BEGIN:VEVENT
UID:5978b9b9db29d664b6065b56@squarespace.com
DTSTAMP:20170726T155059Z
DTSTART:20170804T160000Z
DTEND:20170813T030000Z
SUMMARY:Castletownbere festival by the sea
GEO:51.651495;-9.91033
LOCATION:castletownbere\, cork\, Ireland
END:VEVENT
END:VCALENDAR
