BEGIN:VCALENDAR
VERSION:2.0
PRODID:-//Squarespace Inc/Squarespace 6//v6//EN
BEGIN:VEVENT
UID:595133e1b11be1d69879fd44@squarespace.com
DTSTAMP:20170627T140136Z
DTSTART:20170809T140000Z
DTEND:20170809T200000Z
SUMMARY:Durrus Fete
END:VEVENT
END:VCALENDAR
