BEGIN:VCALENDAR
VERSION:2.0
PRODID:-//Squarespace Inc/Squarespace 6//v6//EN
BEGIN:VEVENT
UID:594cd5d0e58c6222ca4c0736@squarespace.com
DTSTAMP:20170623T085215Z
DTSTART:20170920T090000Z
DTEND:20170924T150000Z
SUMMARY:Clonakilty Guitar festival
GEO:51.620338;-8.90551
LOCATION:clonakilty\, Cork\, Ireland
END:VEVENT
END:VCALENDAR
