BEGIN:VCALENDAR
VERSION:2.0
PRODID:-//Squarespace Inc/Squarespace 6//v6//EN
BEGIN:VEVENT
UID:597b4f7ed2b857b2f83cc267@squarespace.com
DTSTAMP:20170728T145417Z
DTSTART:20170908T150000Z
DTEND:20170918T030000Z
SUMMARY:A Taste of West Cork
END:VEVENT
END:VCALENDAR
